BEGIN:VCALENDAR
VERSION:2.0
PRODID:-//Tukios.com/
BEGIN:VEVENT
UID:5602d559-6acb-40f7-bcc1-1ccc117541b3@www.springhill-memorial.com
DTSTAMP:20260422T170328Z
DTSTART:20260516T190000Z
DTEND:20260516T200000Z
SUMMARY:Funeral Service
DESCRIPTION:
URL:https://www.springhill-memorial.com/obituaries/mary-mable-horton
LOCATION:Cromwell Crossroads Church 1160 Bear Creek Road  Collinwood TN 
	38450
GEO:35.1371835;-87.8279901
END:VEVENT
END:VCALENDAR