BEGIN:VCALENDAR
VERSION:2.0
PRODID:-//Tukios.com/
BEGIN:VEVENT
UID:e9e69808-a6e0-4283-8d8f-0b2ef239ce2a@www.springhill-memorial.com
DTSTAMP:20260423T171418Z
DTSTART:20260425T184500Z
DTEND:20260425T194500Z
SUMMARY:Burial
DESCRIPTION:
URL:https://www.springhill-memorial.com/obituaries/jane-longhurst
LOCATION:Mt. Olivet Cemetery 1101 Lebanon Pike  Nashville TN 37210
GEO:36.1494997;-86.732836
END:VEVENT
END:VCALENDAR