BEGIN:VCALENDAR
VERSION:2.0
PRODID:-//Tukios.com/
BEGIN:VEVENT
UID:a3a3bc3d-d8e1-45a6-bb97-a53a115aa2be@www.springhill-memorial.com
DTSTAMP:20260423T171310Z
DTSTART:20260425T160000Z
DTEND:20260425T170000Z
SUMMARY:Celebration of Life
DESCRIPTION:
URL:https://www.springhill-memorial.com/obituaries/jane-longhurst
LOCATION: 5291 Main Street  Spring Hill TN 37174
GEO:35.7525361;-86.9293688
END:VEVENT
END:VCALENDAR