BEGIN:VCALENDAR
VERSION:2.0
PRODID:-//Tukios.com/
BEGIN:VEVENT
UID:f5754859-b0bb-4a67-9be0-af5431b84a11@www.springhill-memorial.com
DTSTAMP:20260423T171051Z
DTSTART:20260424T210000Z
DTEND:20260425T000000Z
SUMMARY:Visitation
DESCRIPTION:
URL:https://www.springhill-memorial.com/obituaries/jane-longhurst
LOCATION:Spring Hill Memorial Park and Funeral Home 5239 Main Street  
	Spring Hill TN 37174
GEO:35.7554526;-86.9273704
END:VEVENT
END:VCALENDAR